BEGIN:VCALENDAR
VERSION:2.0
PRODID:-//SPD-Ortsverein Leipzig-West - ECPv6.15.20//NONSGML v1.0//EN
CALSCALE:GREGORIAN
METHOD:PUBLISH
X-WR-CALNAME:SPD-Ortsverein Leipzig-West
X-ORIGINAL-URL:https://spd-leipzig-west.de
X-WR-CALDESC:Veranstaltungen für SPD-Ortsverein Leipzig-West
REFRESH-INTERVAL;VALUE=DURATION:PT1H
X-Robots-Tag:noindex
X-PUBLISHED-TTL:PT1H
BEGIN:VTIMEZONE
TZID:Europe/Berlin
BEGIN:DAYLIGHT
TZOFFSETFROM:+0100
TZOFFSETTO:+0200
TZNAME:CEST
DTSTART:20250330T010000
END:DAYLIGHT
BEGIN:STANDARD
TZOFFSETFROM:+0200
TZOFFSETTO:+0100
TZNAME:CET
DTSTART:20251026T010000
END:STANDARD
BEGIN:DAYLIGHT
TZOFFSETFROM:+0100
TZOFFSETTO:+0200
TZNAME:CEST
DTSTART:20260329T010000
END:DAYLIGHT
BEGIN:STANDARD
TZOFFSETFROM:+0200
TZOFFSETTO:+0100
TZNAME:CET
DTSTART:20261025T010000
END:STANDARD
BEGIN:DAYLIGHT
TZOFFSETFROM:+0100
TZOFFSETTO:+0200
TZNAME:CEST
DTSTART:20270328T010000
END:DAYLIGHT
BEGIN:STANDARD
TZOFFSETFROM:+0200
TZOFFSETTO:+0100
TZNAME:CET
DTSTART:20271031T010000
END:STANDARD
END:VTIMEZONE
BEGIN:VEVENT
DTSTART;TZID=Europe/Berlin:20260423T190000
DTEND;TZID=Europe/Berlin:20260423T210000
DTSTAMP:20260423T123812
CREATED:20260308T130529Z
LAST-MODIFIED:20260422T051952Z
UID:1986-1776970800-1776978000@spd-leipzig-west.de
SUMMARY:SPD-Stammtisch
DESCRIPTION:Weil nächste Woche Freitag mit dem 1. Mai ein Feiertag ins Haus steht\, findet unser monatlicher SPD-Abend bereits in dieser Woche statt! \nMit dem bevorstehenden Stadtteilgeburtstag\, 50 Jahre Grünau\, und den neuesten Entwicklungen zum Horst-Siegel-Platz (Platz vor dem PEP-Center) kann der Abend beginnen. Im weiteren Verlauf können wir uns über die Themen austauschen\, die Dir wichtig sind. \nInteressierte Bürger und Mitglieder anderer Ortsvereine sind herzlich eingeladen. Aufgrund begrenzten Platzangebots bitten wir um vorherige Anmeldung: ov-west@spd-leipzig.de
URL:https://spd-leipzig-west.de/termin/spd-abend-2026-04/
LOCATION:Restaurant „Apollon“\, Ludwigsburger Straße 1\, Leipzig\, 04209\, Germany
CATEGORIES:SPD-Abend
END:VEVENT
END:VCALENDAR